BEGIN:VCALENDAR
VERSION:2.0
PRODID:-//Squarespace Inc/Squarespace 6//v6//EN
BEGIN:VEVENT
UID:61dc666c64b79048f000ae86@squarespace.com
DTSTAMP:20220110T171355Z
DTSTART:20220120T010000Z
DTEND:20220120T020000Z
SUMMARY:Philadelphia\, PA: Confessions Book Tour Event
GEO:40.026887;-75.16033
LOCATION:Philly Office Retail\, 4701 Germantown Avenue\, Philadelphia\, PA\
 , 19144\, United States
END:VEVENT
END:VCALENDAR
