BEGIN:VCALENDAR
VERSION:2.0
PRODID:-//Squarespace Inc/Squarespace 6//v6//EN
BEGIN:VEVENT
UID:6166de44d610e27503655fa2@squarespace.com
DTSTAMP:20211103T132409Z
DTSTART:20211118T010000Z
DTEND:20211118T030000Z
SUMMARY:Mesa\, AZ: Confessions Book Tour Event
GEO:33.415509;-111.832106
LOCATION:12 West Brewing\, 12 West Main Street\, Mesa\, AZ\, 85201\, United 
 States
END:VEVENT
END:VCALENDAR
