BEGIN:VCALENDAR
VERSION:2.0
PRODID:-//Squarespace Inc/Squarespace 6//v6//EN
BEGIN:VEVENT
UID:61ba6f0ab61b5e04b6d090e7@squarespace.com
DTSTAMP:20220110T195117Z
DTSTART:20220211T150000Z
DTEND:20220211T203000Z
SUMMARY:Phoenix\, AZ: Friends of Transit Conference
GEO:33.44974;-112.07167
LOCATION:Hyatt Regency Phoenix\, 122 North 2nd Street\, Phoenix\, AZ\, 8500
 4\, United States
END:VEVENT
END:VCALENDAR
