BEGIN:VCALENDAR
VERSION:2.0
PRODID:-//Squarespace Inc/Squarespace 6//v6//EN
BEGIN:VEVENT
UID:63bc6ded87d33c3ae43a9140@squarespace.com
DTSTAMP:20230109T200436Z
DTSTART:20230330T130000Z
DTEND:20230330T160000Z
SUMMARY:Raleigh\, NC: Housing &amp\; Development Summit 2023
GEO:35.907015;-78.799415
LOCATION:Briar Creek Country Club\, 9400 Club Hill Drive\, Raleigh\, NC\, 2
 7617\, United States
END:VEVENT
END:VCALENDAR
