BEGIN:VCALENDAR
VERSION:2.0
PRODID:-//Squarespace Inc/Squarespace 6//v6//EN
BEGIN:VEVENT
UID:60c8d7d7089238162bf85ab5@squarespace.com
DTSTAMP:20210719T222427Z
DTSTART:20210831T140000Z
DTEND:20210831T180000Z
SUMMARY:Real Estate Council of Austin Exchange Expo
GEO:30.264571;-97.743198
LOCATION:JW Marriott Austin\, 110 E 2nd St\, Austin\, TX 78701
END:VEVENT
END:VCALENDAR
