BEGIN:VCALENDAR
VERSION:2.0
PRODID:-//Squarespace Inc/Squarespace 6//v6//EN
BEGIN:VEVENT
UID:612fc6038442de40bc20da52@squarespace.com
DTSTAMP:20210901T192756Z
DTSTART:20210914T143000Z
DTEND:20210914T210000Z
SUMMARY:Recovery &amp\; Resiliency Webinar Series
GEO:38.970579;-94.729087
LOCATION:Online
END:VEVENT
END:VCALENDAR
