BEGIN:VCALENDAR
VERSION:2.0
PRODID:-//Squarespace Inc/Squarespace 6//v6//EN
BEGIN:VEVENT
UID:625dcd62a2fd89512ddf3056@squarespace.com
DTSTAMP:20220518T181045Z
DTSTART:20220527T210000Z
DTEND:20220527T220000Z
SUMMARY:RESTITCH: The Social Fabric Summit
END:VEVENT
END:VCALENDAR
