BEGIN:VCALENDAR
VERSION:2.0
PRODID:-//Squarespace Inc/Squarespace 6//v6//EN
BEGIN:VEVENT
UID:617c374e5c07a3286a248d4c@squarespace.com
DTSTAMP:20211029T181931Z
DTSTART:20211119T000000Z
DTEND:20211119T020000Z
SUMMARY:San Diego\, CA: Confessions Book Tour Event
GEO:32.73111;-117.148621
LOCATION:San Diego History Center\, 1649 El Prado\, San Diego\, CA\, 92101\
 , United States
END:VEVENT
END:VCALENDAR
