BEGIN:VCALENDAR
VERSION:2.0
PRODID:-//Squarespace Inc/Squarespace 6//v6//EN
BEGIN:VEVENT
UID:620d476e192b2d5c6432337e@squarespace.com
DTSTAMP:20220216T190105Z
DTSTART:20220304T160000Z
DTEND:20220304T170000Z
SUMMARY:Seaside\, FL: Seaside Prize Symposium
GEO:30.321523;-86.139053
LOCATION:Seaside Assembly Hall\, Smollian Circle\, SANTA RSA BCH\, FL\, 324
 59\, United States
END:VEVENT
END:VCALENDAR
