BEGIN:VCALENDAR
VERSION:2.0
PRODID:-//Squarespace Inc/Squarespace 6//v6//EN
BEGIN:VEVENT
UID:60f8245c65d60476cc3d8dd0@squarespace.com
DTSTAMP:20210819T185754Z
DTSTART:20210922T230000Z
DTEND:20210923T000000Z
SUMMARY:Shreveport\, LA: Confessions Book Tour Event
GEO:32.498774;-93.749063
LOCATION:First Presbyterian Church\, 900 Jordan Street\, Shreveport\, LA\, 
 71101
END:VEVENT
END:VCALENDAR
