BEGIN:VCALENDAR
VERSION:2.0
PRODID:-//Squarespace Inc/Squarespace 6//v6//EN
BEGIN:VEVENT
UID:611e7be5da7c0d58bca8bdf8@squarespace.com
DTSTAMP:20210819T160235Z
DTSTART:20210909T220000Z
DTEND:20210910T000000Z
SUMMARY:Springfield\, MA: Confessions Book Tour Event
GEO:42.120111;-72.575178
LOCATION:Gasoline Alley\, 250 Albany St.\, Springfield\, MA 01105
END:VEVENT
END:VCALENDAR
