BEGIN:VCALENDAR
VERSION:2.0
PRODID:-//Squarespace Inc/Squarespace 6//v6//EN
BEGIN:VEVENT
UID:6149fbcd4700672f39046cd2@squarespace.com
DTSTAMP:20210922T154626Z
DTSTART:20211007T230000Z
DTEND:20211008T010000Z
SUMMARY:St. Louis\, MO: Confessions Book Tour Event
GEO:38.634384;-90.222905
LOCATION:Il Monastero\, 3050 Olive Street\, St. Louis\, MO\, 63103\, United 
 States
END:VEVENT
END:VCALENDAR
