BEGIN:VCALENDAR
VERSION:2.0
PRODID:-//Squarespace Inc/Squarespace 6//v6//EN
BEGIN:VEVENT
UID:6228b3cc9bc41c7f334e07f6@squarespace.com
DTSTAMP:20220316T162000Z
DTSTART:20220322T000000Z
DTEND:20220322T013000Z
SUMMARY:Stillwater\, OK: A Bottom Up Revolution to Rebuild American Prosper
 ity
GEO:36.114284;-97.06165
LOCATION:The Sheerar\, 702 South Duncan Street\, Stillwater\, OK\, 74074\, 
 United States
END:VEVENT
END:VCALENDAR
