BEGIN:VCALENDAR
VERSION:2.0
PRODID:-//Squarespace Inc/Squarespace 6//v6//EN
BEGIN:VEVENT
UID:6130e22cf41fb53f1fc42ad5@squarespace.com
DTSTAMP:20210908T181314Z
DTSTART:20210923T230000Z
DTEND:20210924T003000Z
SUMMARY:Sulphur Springs\, TX: Confessions Book Tour Event
GEO:33.137881;-95.60231
LOCATION:Venue at 219\, 219 Main St.\, Sulphur Springs\, TX 75482
END:VEVENT
END:VCALENDAR
