BEGIN:VCALENDAR
VERSION:2.0
PRODID:-//Squarespace Inc/Squarespace 6//v6//EN
BEGIN:VEVENT
UID:60f081cc7865aa574582bc40@squarespace.com
DTSTAMP:20210802T150004Z
DTSTART:20210830T230000Z
DTEND:20210831T003000Z
SUMMARY:Taylor\, TX: Confessions Book Tour Event
GEO:30.574356;-97.412704
LOCATION:Taylor Public Library\, 801 Vance St\, Taylor\, TX 76574
END:VEVENT
END:VCALENDAR
