BEGIN:VCALENDAR
VERSION:2.0
PRODID:-//Squarespace Inc/Squarespace 6//v6//EN
BEGIN:VEVENT
UID:63dc15d4777d6513ed92c985@squarespace.com
DTSTAMP:20230217T192129Z
DTSTART:20230308T013000Z
DTEND:20230308T023000Z
SUMMARY:Thunder Bay\, ON: Strong Towns Presentation
GEO:48.433451;-89.228903
LOCATION:Italian Cultural Center\, 132 Algoma Street South\, Thunder Bay\, 
 ON\, P7B 3B7\, Canada
END:VEVENT
END:VCALENDAR
