BEGIN:VCALENDAR
VERSION:2.0
PRODID:-//Squarespace Inc/Squarespace 6//v6//EN
BEGIN:VEVENT
UID:6149e60fdfecc600f400ae9a@squarespace.com
DTSTAMP:20220411T135605Z
DTSTART:20220412T131000Z
DTEND:20220412T141000Z
SUMMARY:Toronto\, ON: Good Roads Ontario Association Conference
GEO:43.646172;-79.381136
LOCATION:Fairmont Royal York Hotel\, 100 Front Street West\, Toronto\, ON\, 
 M5J 1E3\, Canada
END:VEVENT
END:VCALENDAR
