BEGIN:VCALENDAR
VERSION:2.0
PRODID:-//Squarespace Inc/Squarespace 6//v6//EN
BEGIN:VEVENT
UID:6148a3ca6b23a413c0dbfa83@squarespace.com
DTSTAMP:20211025T135736Z
DTSTART:20211117T010000Z
DTEND:20211117T023000Z
SUMMARY:Tucson\, AZ: Confessions Book Tour Event
GEO:32.218041;-110.984136
LOCATION:MSA Annex\, 267 South Avenida del Convento\, Tucson\, AZ\, 85701\, 
 United States
END:VEVENT
END:VCALENDAR
