BEGIN:VCALENDAR
VERSION:2.0
PRODID:-//Squarespace Inc/Squarespace 6//v6//EN
BEGIN:VEVENT
UID:6176b43e2a2c073441049fba@squarespace.com
DTSTAMP:20211025T135549Z
DTSTART:20211117T150000Z
DTEND:20211117T163000Z
SUMMARY:Tucson\, AZ: Curbside Chat Presentation
GEO:32.222607;-110.974711
LOCATION:University of Arizona\, Tucson\, AZ\, United States
END:VEVENT
END:VCALENDAR
