BEGIN:VCALENDAR
VERSION:2.0
PRODID:-//Squarespace Inc/Squarespace 6//v6//EN
BEGIN:VEVENT
UID:62a789e22f9276441c8a175e@squarespace.com
DTSTAMP:20220613T190923Z
DTSTART:20220831T213000Z
DTEND:20220831T223000Z
SUMMARY:Tulsa\, OK: Confessions Book Tour
GEO:36.150521;-95.994231
LOCATION:Tulsa Central Library\, 400 Civic Center\, Tulsa\, OK\, 74103\, Un
 ited States
END:VEVENT
END:VCALENDAR
