BEGIN:VCALENDAR
VERSION:2.0
PRODID:-//Squarespace Inc/Squarespace 6//v6//EN
BEGIN:VEVENT
UID:6441584500b4ed70c91949a2@squarespace.com
DTSTAMP:20230420T153121Z
DTSTART:20230608T134500Z
DTEND:20230608T151500Z
SUMMARY:Virginia Beach\, VA: 2023 VLGMA Summer Conference
GEO:36.870112;-75.981247
LOCATION:Marriott Virginia Beach Oceanfront\, 4201 Atlantic Avenue\, Virgin
 ia Beach\, VA\, 23451\, United States
END:VEVENT
END:VCALENDAR
