BEGIN:VCALENDAR
VERSION:2.0
PRODID:-//Squarespace Inc/Squarespace 6//v6//EN
BEGIN:VEVENT
UID:61ca26080d7b5f2f381b40e2@squarespace.com
DTSTAMP:20220119T225242Z
DTSTART:20220210T180000Z
DTEND:20220210T190000Z
SUMMARY:Webinar: 10 Strong Towns Questions to Ask a Candidate for Local Off
 ice
GEO:45.343299;-75.704871
LOCATION:Online Event
END:VEVENT
END:VCALENDAR
