BEGIN:VCALENDAR
VERSION:2.0
PRODID:-//Squarespace Inc/Squarespace 6//v6//EN
BEGIN:VEVENT
UID:61ca234130ed420249e4e3bc@squarespace.com
DTSTAMP:20220105T220720Z
DTSTART:20220203T180000Z
DTEND:20220203T190000Z
SUMMARY:Webinar: 4 Quick Zoning Code Reforms for a Strong Town
GEO:45.343299;-75.704871
LOCATION:Online Event
END:VEVENT
END:VCALENDAR
