BEGIN:VCALENDAR
VERSION:2.0
PRODID:-//Squarespace Inc/Squarespace 6//v6//EN
BEGIN:VEVENT
UID:635ac6d83943345e42887427@squarespace.com
DTSTAMP:20221027T180931Z
DTSTART:20221104T170000Z
DTEND:20221104T180000Z
SUMMARY:Webinar: A Case For Reparations
GEO:46.352673;-94.202008
LOCATION:Online Zoom Event
END:VEVENT
END:VCALENDAR
