BEGIN:VCALENDAR
VERSION:2.0
PRODID:-//Squarespace Inc/Squarespace 6//v6//EN
BEGIN:VEVENT
UID:6447e277df885f7abae2cb11@squarespace.com
DTSTAMP:20230428T193951Z
DTSTART:20230525T170000Z
DTEND:20230525T180000Z
SUMMARY:Webinar:  Bottom Up Revolution for Mission West Community Developme
 nt Partners
GEO:46.879682;-110.362566
LOCATION:Online Zoom Event\, Montana
END:VEVENT
END:VCALENDAR
