BEGIN:VCALENDAR
VERSION:2.0
PRODID:-//Squarespace Inc/Squarespace 6//v6//EN
BEGIN:VEVENT
UID:61b22eecbe7e131ca00046d8@squarespace.com
DTSTAMP:20211227T203409Z
DTSTART:20220103T180000Z
DTEND:20220103T190000Z
SUMMARY:Webinar: Brainerd\, MN: Confessions Book Tour Event
GEO:45.343299;-75.704871
LOCATION:Online Event
END:VEVENT
END:VCALENDAR
