BEGIN:VCALENDAR
VERSION:2.0
PRODID:-//Squarespace Inc/Squarespace 6//v6//EN
BEGIN:VEVENT
UID:63bc76f138e5cc26e3bf7d35@squarespace.com
DTSTAMP:20230109T202712Z
DTSTART:20230124T160000Z
DTEND:20230124T170000Z
SUMMARY:Webinar: Confessions of a Recovering Engineer w/ Queen's University 
 Belfast
GEO:46.352673;-94.202008
LOCATION:Online Event
END:VEVENT
END:VCALENDAR
