BEGIN:VCALENDAR
VERSION:2.0
PRODID:-//Squarespace Inc/Squarespace 6//v6//EN
BEGIN:VEVENT
UID:629e486f5d6d092671e7ce1f@squarespace.com
DTSTAMP:20220831T183706Z
DTSTART:20220627T233000Z
DTEND:20220628T010000Z
SUMMARY:Webinar: Daniel Herriges at the Sustain Saint Paul Member Meeting
GEO:46.352673;-94.202008
LOCATION:Zoom Online Event
END:VEVENT
END:VCALENDAR
