BEGIN:VCALENDAR
VERSION:2.0
PRODID:-//Squarespace Inc/Squarespace 6//v6//EN
BEGIN:VEVENT
UID:615dcbef8565c04d01884b07@squarespace.com
DTSTAMP:20220120T165942Z
DTSTART:20220127T180000Z
DTEND:20220127T190000Z
SUMMARY:Webinar: Urban3 Decoder Webinar
GEO:39.901359;-86.200592
LOCATION:Zoom Online Event
END:VEVENT
END:VCALENDAR
