BEGIN:VCALENDAR
VERSION:2.0
PRODID:-//Squarespace Inc/Squarespace 6//v6//EN
BEGIN:VEVENT
UID:61cb6b69ecec673f492b1e72@squarespace.com
DTSTAMP:20220104T165521Z
DTSTART:20220303T180000Z
DTEND:20220303T190000Z
SUMMARY:Webinar: How to Make Progress When Political Divisions Dominate
GEO:45.343299;-75.704871
LOCATION:Online Event
END:VEVENT
END:VCALENDAR
