BEGIN:VCALENDAR
VERSION:2.0
PRODID:-//Squarespace Inc/Squarespace 6//v6//EN
BEGIN:VEVENT
UID:61cb6ce0d4a4016b1a243c6b@squarespace.com
DTSTAMP:20220104T165538Z
DTSTART:20220317T170000Z
DTEND:20220317T180000Z
SUMMARY:Webinar: How to Run for Office as a Strong Towns Advocate
GEO:45.343299;-75.704871
LOCATION:Online Event
END:VEVENT
END:VCALENDAR
