BEGIN:VCALENDAR
VERSION:2.0
PRODID:-//Squarespace Inc/Squarespace 6//v6//EN
BEGIN:VEVENT
UID:61cb6d7ca123f32770221240@squarespace.com
DTSTAMP:20220104T165546Z
DTSTART:20220331T170000Z
DTEND:20220331T180000Z
SUMMARY:Webinar: Identifying Obstacles to Development and Making Way for Sm
 all-Scale Change
GEO:45.343299;-75.704871
LOCATION:Online Event
END:VEVENT
END:VCALENDAR
