BEGIN:VCALENDAR
VERSION:2.0
PRODID:-//Squarespace Inc/Squarespace 6//v6//EN
BEGIN:VEVENT
UID:61ca273d4c58c16d8f6319dd@squarespace.com
DTSTAMP:20220104T165505Z
DTSTART:20220217T180000Z
DTEND:20220217T190000Z
SUMMARY:Webinar: Infrastructure Avalanche: How to Make the Best Use of Stat
 e and Federal Funding
GEO:45.343299;-75.704871
LOCATION:Online Event
END:VEVENT
END:VCALENDAR
