BEGIN:VCALENDAR
VERSION:2.0
PRODID:-//Squarespace Inc/Squarespace 6//v6//EN
BEGIN:VEVENT
UID:61cb6c2bc1504b4ee3a95178@squarespace.com
DTSTAMP:20220104T165530Z
DTSTART:20220310T180000Z
DTEND:20220310T190000Z
SUMMARY:Webinar: Learn the 4-Step Process for Public Investment
GEO:45.343299;-75.704871
LOCATION:Online Event
END:VEVENT
END:VCALENDAR
