BEGIN:VCALENDAR
VERSION:2.0
PRODID:-//Squarespace Inc/Squarespace 6//v6//EN
BEGIN:VEVENT
UID:61ca27fbf9061e7cedfbc0a6@squarespace.com
DTSTAMP:20220104T165513Z
DTSTART:20220224T180000Z
DTEND:20220224T190000Z
SUMMARY:Webinar: Let’s Fix a Dangerous Street in 24 Hours or Less
GEO:45.343299;-75.704871
LOCATION:Online Event
END:VEVENT
END:VCALENDAR
