BEGIN:VCALENDAR
VERSION:2.0
PRODID:-//Squarespace Inc/Squarespace 6//v6//EN
BEGIN:VEVENT
UID:619282dda89b644bc7f9f53e@squarespace.com
DTSTAMP:20211115T162911Z
DTSTART:20211214T160000Z
DTEND:20211214T173000Z
SUMMARY:Webinar: Missoula\, MT\; Confessions Book Tour Event
GEO:39.401515;-76.59659
LOCATION:Zoom Online Event
END:VEVENT
END:VCALENDAR
