BEGIN:VCALENDAR
VERSION:2.0
PRODID:-//Squarespace Inc/Squarespace 6//v6//EN
BEGIN:VEVENT
UID:6144c5ad28bf0507a7a41df1@squarespace.com
DTSTAMP:20211006T161647Z
DTSTART:20210930T170000Z
DTEND:20210930T180000Z
SUMMARY:Webinar: Urban3: Decoder Webinar
GEO:39.901359;-86.200592
LOCATION:Zoom Online Event
END:VEVENT
END:VCALENDAR
