BEGIN:VCALENDAR
VERSION:2.0
PRODID:-//Squarespace Inc/Squarespace 6//v6//EN
BEGIN:VEVENT
UID:6144bc99c813631d8af8180e@squarespace.com
DTSTAMP:20210917T164325Z
DTSTART:20210928T160000Z
DTEND:20210928T170000Z
SUMMARY:Webinar: On The Park Bench: Author's Forum
GEO:39.901359;-86.200592
LOCATION:Zoom Online Event
END:VEVENT
END:VCALENDAR
