BEGIN:VCALENDAR
VERSION:2.0
PRODID:-//Squarespace Inc/Squarespace 6//v6//EN
BEGIN:VEVENT
UID:6230b5c00eda645db895808e@squarespace.com
DTSTAMP:20230313T180610Z
DTSTART:20220404T200000Z
DTEND:20220404T210000Z
SUMMARY:Webinar: Strongest Town 2022 Championship
GEO:45.343299;-75.704871
LOCATION:Online Event
END:VEVENT
END:VCALENDAR
