BEGIN:VCALENDAR
VERSION:2.0
PRODID:-//Squarespace Inc/Squarespace 6//v6//EN
BEGIN:VEVENT
UID:640f66124c7e8d2b90204ec9@squarespace.com
DTSTAMP:20230403T142146Z
DTSTART:20230410T193000Z
DTEND:20230410T203000Z
SUMMARY:Webinar: Strongest Town 2023 Championship
GEO:45.343299;-75.704871
LOCATION:Online Event
END:VEVENT
END:VCALENDAR
