BEGIN:VCALENDAR
VERSION:2.0
PRODID:-//Squarespace Inc/Squarespace 6//v6//EN
BEGIN:VEVENT
UID:641dc40191ec4d3660d5535c@squarespace.com
DTSTAMP:20230324T200412Z
DTSTART:20230328T233000Z
DTEND:20230329T003000Z
SUMMARY:Webinar: Transforming The Built Environment to Enable People
GEO:46.352673;-94.202008
LOCATION:Online Zoom Event
END:VEVENT
END:VCALENDAR
