BEGIN:VCALENDAR
VERSION:2.0
PRODID:-//Squarespace Inc/Squarespace 6//v6//EN
BEGIN:VEVENT
UID:636d25a1609a3a6edfc0be74@squarespace.com
DTSTAMP:20221110T171745Z
DTSTART:20221117T000000Z
DTEND:20221117T020000Z
SUMMARY:Webinar: Walk Bike Washtenaw Annual Meeting
GEO:46.357279;-94.187987
LOCATION:Zoom Online Event
END:VEVENT
END:VCALENDAR
