BEGIN:VCALENDAR
VERSION:2.0
PRODID:-//Squarespace Inc/Squarespace 6//v6//EN
BEGIN:VEVENT
UID:631776d5feb1183bfc5c1a11@squarespace.com
DTSTAMP:20220906T165557Z
DTSTART:20220929T170000Z
DTEND:20220929T180000Z
SUMMARY:Webinar: WalkBoston's Talk The Walk Session
GEO:46.352673;-94.202008
LOCATION:Zoom Webinar
END:VEVENT
END:VCALENDAR
