BEGIN:VCALENDAR
VERSION:2.0
PRODID:-//Squarespace Inc/Squarespace 6//v6//EN
BEGIN:VEVENT
UID:613120122f827d1523d2562a@squarespace.com
DTSTAMP:20210903T152954Z
DTSTART:20211012T130000Z
DTEND:20211012T213000Z
SUMMARY:West Fargo\, ND: Main Street ND Summit
GEO:46.840006;-96.889371
LOCATION:Rustad Recreation Center\, 601 26th Ave E\, West Fargo\, ND 58078
END:VEVENT
END:VCALENDAR
