BEGIN:VCALENDAR
VERSION:2.0
PRODID:-//Squarespace Inc/Squarespace 6//v6//EN
BEGIN:VEVENT
UID:615341c1a3e9680944692397@squarespace.com
DTSTAMP:20210928T170610Z
DTSTART:20211028T190000Z
DTEND:20211029T013000Z
SUMMARY:Wichita\, KS: Rethinking Wichita Conference
GEO:37.67718;-97.366881
LOCATION:Friend University\, 2100 W University Ave\, Wichita\, KS 67213
END:VEVENT
END:VCALENDAR
