BEGIN:VCALENDAR
VERSION:2.0
PRODID:-//Squarespace Inc/Squarespace 6//v6//EN
BEGIN:VEVENT
UID:627003c655d62b03a4a42074@squarespace.com
DTSTAMP:20220502T163850Z
DTSTART:20220525T163000Z
DTEND:20220525T173000Z
SUMMARY:Winnipeg\, Manitoba:  Confessions Book Tour Event
GEO:49.881131;-97.124003
LOCATION:Norwood Hotel\, 112 Marion Street\, Winnipeg\, MB\, R2H 0T1\, Cana
 da
END:VEVENT
END:VCALENDAR
