BEGIN:VCALENDAR
VERSION:2.0
PRODID:-//Squarespace Inc/Squarespace 6//v6//EN
BEGIN:VEVENT
UID:621e6f8cb4cb312e30270762@squarespace.com
DTSTAMP:20220301T191746Z
DTSTART:20220413T160000Z
DTEND:20220413T213000Z
SUMMARY:Winnipeg\, Manitoba: Confessions Book Tour Event
GEO:49.887908;-97.129523
LOCATION:Inn At The Forks\, 75 Forks Market Road\, Winnipeg\, MB\, R3C 4Y3\
 , Canada
END:VEVENT
END:VCALENDAR
