BEGIN:VCALENDAR
VERSION:2.0
PRODID:-//Squarespace Inc/Squarespace 6//v6//EN
BEGIN:VEVENT
UID:64494b1e4bc1f677310665aa@squarespace.com
DTSTAMP:20230426T162424Z
DTSTART:20230504T130000Z
DTEND:20230504T190000Z
SUMMARY:Winter Haven\, FL: CityWorks(X)po Florida 
GEO:28.02251;-81.73005
LOCATION:Ritz Theatre\, 263 West Central Avenue\, Winter Haven\, FL\, 33880
 \, United States
END:VEVENT
END:VCALENDAR
