BEGIN:VCALENDAR
VERSION:2.0
PRODID:-//Squarespace Inc/Squarespace 6//v6//EN
BEGIN:VEVENT
UID:5fc46f9d4e98326c029fc599@squarespace.com
DTSTAMP:20201201T212839Z
DTSTART:20201215T230000Z
DTEND:20201216T000000Z
SUMMARY:Curbside Chat: Building a Strong Town for All Ages
GEO:46.356803;-94.185502
LOCATION:Strong Towns\, 1511 Northern Pacific Rd\, Brainerd\, MN\, 56401
END:VEVENT
END:VCALENDAR
